BEGIN:VCALENDAR
VERSION:2.0
PRODID:-//ChamberMaster//Event Calendar 2.0//EN
METHOD:PUBLISH
X-PUBLISHED-TTL:P3D
REFRESH-INTERVAL:P3D
CALSCALE:GREGORIAN
BEGIN:VEVENT
DTSTART:20110504T000000Z
DTEND:20110504T020000Z
X-MICROSOFT-CDO-ALLDAYEVENT:FALSE
SUMMARY:Business After 5
DESCRIPTION:The Prince George Chamber of Commerce and Prince George Golf & Curling Club are pleased to welcome the FIRST Business After 5 networking event in Prince George!\n\nBusiness After 5 is all about creating member-to-member connections. It is a convenient Chamber networking opportunity that members freelyparticipate in directly following business hours. It is a\n\ncasual social event where food and beverages compliment a sponsor's presentation within a 2 hour time frame between 5 pm 7 pm.  \n\nWe welcome you to bring a non-member guest to this event to experience the networking\n\nopportunities: after this\, we ask that they become members of the Chamber of Commerce to continue their attendance\, and don't forget our referral program with each\n\nsuccessfully referred member!
X-ALT-DESC;FMTTYPE=text/html:<span style="font-size: 11px"><span style="language: en-us"><span style="font-family: arial">The Prince George Chamber of Commerce and Prince George Golf &amp\; Curling Club are pleased to welcome the FIRST Business After 5 networking event in Prince George!</span></span><br />\n<span style="language: en-us"><span style="font-family: arial">Business After 5 is all about creating member-to-member connections. It is a convenient Chamber networking opportunity that members </span></span><span style="font-weight: bold\; language: en-us"><span style="font-family: arial">freely</span></span><span style="language: en-us"><span style="font-family: arial">participate in directly following business hours. It is a<br />\ncasual social event where food and beverages compliment a sponsor&rsquo\;s presentation within a 2 hour time frame between 5 pm&mdash\;7 pm.&nbsp\; </span></span><br />\n<span style="language: en-us"><span style="font-family: arial">We welcome you to bring a non-member guest to this event to experience the networking<br />\nopportunities: after this\, we ask that they become members of the Chamber of Commerce to continue their attendance\, and don&rsquo\;t forget our referral program with each<br />\nsuccessfully referred member!</span></span></span><br />\n&nbsp\;&nbsp\;<br />\n
LOCATION:The Prince George Golf & Curling Club
UID:e.1166.11
SEQUENCE:3
DTSTAMP:20260421T031310Z
URL:http://pgchamber.chambermaster.com/events/details/business-after-5-05-03-2011-11
END:VEVENT

END:VCALENDAR
